Workbook
Name programa: #REF!

Sheet Resumo Tecnico
D1: RESUMO TÉCNICO DO EMPREENDIMENTO
B5: Nome do empreendimento | L5: CCA-RTE_ResumoTecnicoEmpreendimento_v12 agosto2026
B7: Endereço do empreendimento | J7: Complemento
B9: Bairro | F9: Município | J9: UF | K9: CEP
B11: Agente Promotor | I11: CPF/ CNPJ
B13: Construtora | I13: CPF/ CNPJ
B15: Responsável Técnico | F15: CREA/CAU | I15: CPF
B17: Incorporador | I17: CPF/ CNPJ
B19: Proprietário do terreno | I19: CPF/ CNPJ
B21: Nome para contato | E21: Telefone | H21: E-mail
B24: TIPO DO EMPREENDIMENTO
B25: Casas | E25: unidades | F25: Edifício garagem | J25: Quadra | K25: -
B26: Apartamentos | E26: unidades | F26: Salas comerciais | J26: Equipamentos lazer | K26: -
B27: Tipos de UH diferentes | F27: Lojas | J27: Playground | K27: -
B28: Vagas | F28: Guarita/ Portaria | J28: Pavtos. / blocos | K28: -
B29: Sobresolos | F29: Salão de Festas
B30: Nº de blocos de aptos. | F30: Churrasqueira
B32: Descrição do empreendimento (tipologias, blocos, equipamentos de uso comum, lazer e infraestrutura):
B40: CARACTERÍSTICAS CONSTRUTIVAS
B41: Padrão de acabamento | G41: Sistema Construtivo | J41: ALVENARIA ESTRUTURAL
B42: Processo construtivo
B43: Indique
B46: ÁREAS DO EMPREENDIMENTO
C47: Área total do terreno | F47: Área Sistema Viário | J47: Área Non Edificandi
C48: Área de APP | F48: Área de praças/ áreas verdes | J48: Área de outros Equipamentos
C49: Área construída aprovada | J49: Área líquida do terreno | K49: =D47 -> 0
D50: (do Projeto Legal aprovado)
B52: Tipologia | C52: Qtidade | D52: Descrição | F52: Area Privativa Real | G52: Area Privativa Equivalente (NBR) | H52: Area Construída Real (NBR) | I52: Área total equivalente (NBR) | J52: Valor de VENDA proposto | K52: VGV | L52: VGV / M2 | N52: Fração Ideal da Unidade Habitacional
A54: Análise dos custos e valores de avaliação | B54: 1 | K54: =IF(C54=0,"",J54*C54) | L54: =IF(OR(J54=0,K54=""),"-","R$ "&TEXT(J54/I54,"0.000,00")&"/m2") -> -
B55: =B54+1 -> 2 | K55: =IF(C55=0,"",J55*C55) | L55: =IF(OR(J55=0,K55=""),"-","R$ "&TEXT(J55/I55,"0.000,00")&"/m2") -> -
B56: 3 | K56: =IF(C56=0,"",J56*C56) | L56: =IF(OR(J56=0,K56=""),"-","R$ "&TEXT(J56/I56,"0.000,00")&"/m2") -> - | N56: 0.0023639021
B57: 4 | K57: =IF(C57=0,"",J57*C57) | L57: =IF(OR(J57=0,K57=""),"-","R$ "&TEXT(J57/I57,"0.000,00")&"/m2") -> - | N57: 0.0024047957
B58: 5 | K58: =IF(C58=0,"",J58*C58) | L58: =IF(OR(J58=0,K58=""),"-","R$ "&TEXT(J58/I58,"0.000,00")&"/m2") -> - | N58: 0.0023870159
B59: 6 | K59: =IF(C59=0,"",J59*C59) | L59: =IF(OR(J59=0,K59=""),"-","R$ "&TEXT(J59/I59,"0.000,00")&"/m2") -> - | N59: 0.0023856443
B60: 7 | K60: =IF(C60=0,"",J60*C60) | L60: =IF(OR(J60=0,K60=""),"-","R$ "&TEXT(J60/I60,"0.000,00")&"/m2") -> - | N60: 0.0023846283
B61: 8 | K61: =IF(C61=0,"",J61*C61) | L61: =IF(OR(J61=0,K61=""),"-","R$ "&TEXT(J61/I61,"0.000,00")&"/m2") -> - | N61: 0.0023668485
B62: 9 | K62: =IF(C62=0,"",J62*C62) | L62: =IF(OR(J62=0,K62=""),"-","R$ "&TEXT(J62/I62,"0.000,00")&"/m2") -> - | N62: 0.0023628862
B63: 10 | K63: =IF(C63=0,"",J63*C63) | L63: =IF(OR(J63=0,K63=""),"-","R$ "&TEXT(J63/I63,"0.000,00")&"/m2") -> - | N63: 0.0023451063
B64: 11 | K64: =IF(C64=0,"",J64*C64) | L64: =IF(OR(J64=0,K64=""),"-","R$ "&TEXT(J64/I64,"0.000,00")&"/m2") -> -
B65: 12 | K65: =IF(C65=0,"",J65*C65) | L65: =IF(OR(J65=0,K65=""),"-","R$ "&TEXT(J65/I65,"0.000,00")&"/m2") -> -
...

Sheet Orçamento Resumo
E1: LOG0 EMPRESA
B2: Obra: | C2: ='Orçamento Detalhado'!C4 | E2: Data Base:
B3: Local: | C3: ='Orçamento Detalhado'!C5 | E3: ='Orçamento Detalhado'!H7 -> 46023
B4: RESUMO DE ORÇAMENTO - CUSTO TOTAL DA OBRA
B6: I T E M | C6: DISCRIMINAÇÃO DOS SERVIÇOS | D6: TOTAL | E6: %
B7: 0 | C7: =VLOOKUP($B7,'Orçamento Detalhado'!$A$14:$I$561,2,FALSE) -> 0 | D7: ='Orçamento Detalhado'!J15 -> 0 | E7: =D7/$D$56 -> #N/A
B8: 1 | C8: =VLOOKUP($B8,'Orçamento Detalhado'!$A$14:$I$561,2,FALSE) -> 0 | D8: =VLOOKUP($B8,'Orçamento Detalhado'!$A$14:$I$561,6,FALSE) -> 0 | E8: =D8/$D$56 -> #N/A
B9: 1.1 | C9: =VLOOKUP($B9,'Orçamento Detalhado'!$A$14:$I$561,2,FALSE) -> 0 | D9: =VLOOKUP($B9,'Orçamento Detalhado'!$A$14:$I$561,6,FALSE) -> 0 | E9: =D9/$D$56 -> #N/A
B10: 1.2 | C10: =VLOOKUP($B10,'Orçamento Detalhado'!$A$14:$I$561,2,FALSE) -> 0 | D10: =VLOOKUP($B10,'Orçamento Detalhado'!$A$14:$I$561,6,FALSE) -> 0 | E10: =D10/$D$56 -> #N/A
B11: 1.3 | C11: =VLOOKUP($B11,'Orçamento Detalhado'!$A$14:$I$561,2,FALSE) -> #N/A | D11: =VLOOKUP($B11,'Orçamento Detalhado'!$A$14:$I$561,6,FALSE) -> #N/A | E11: =D11/$D$56 -> #N/A
B12: 1.4 | C12: =VLOOKUP($B12,'Orçamento Detalhado'!$A$14:$I$561,2,FALSE) -> #N/A | D12: =VLOOKUP($B12,'Orçamento Detalhado'!$A$14:$I$561,6,FALSE) -> #N/A | E12: =D12/$D$56 -> #N/A
B13: 1.5 | C13: =VLOOKUP($B13,'Orçamento Detalhado'!$A$14:$I$561,2,FALSE) -> #N/A | D13: =VLOOKUP($B13,'Orçamento Detalhado'!$A$14:$I$561,6,FALSE) -> #N/A | E13: =D13/$D$56 -> #N/A
B14: 1.6 | C14: =VLOOKUP($B14,'Orçamento Detalhado'!$A$14:$I$561,2,FALSE) -> #N/A | D14: =VLOOKUP($B14,'Orçamento Detalhado'!$A$14:$I$561,6,FALSE) -> #N/A | E14: =D14/$D$56 -> #N/A
B15: 1.7 | C15: =VLOOKUP($B15,'Orçamento Detalhado'!$A$14:$I$561,2,FALSE) -> #N/A | D15: =VLOOKUP($B15,'Orçamento Detalhado'!$A$14:$I$561,6,FALSE) -> #N/A | E15: =D15/$D$56 -> #N/A
B16: 1.8 | C16: =VLOOKUP($B16,'Orçamento Detalhado'!$A$14:$I$561,2,FALSE) -> #N/A | D16: =VLOOKUP($B16,'Orçamento Detalhado'!$A$14:$I$561,6,FALSE) -> #N/A | E16: =D16/$D$56 -> #N/A
B17: 1.9 | C17: =VLOOKUP($B17,'Orçamento Detalhado'!$A$14:$I$561,2,FALSE) -> #N/A | D17: =VLOOKUP($B17,'Orçamento Detalhado'!$A$14:$I$561,6,FALSE) -> #N/A | E17: =D17/$D$56 -> #N/A
B18: 1.10 | C18: =VLOOKUP($B18,'Orçamento Detalhado'!$A$14:$I$561,2,FALSE) -> #N/A | D18: =VLOOKUP($B18,'Orçamento Detalhado'!$A$14:$I$561,6,FALSE) -> #N/A | E18: =D18/$D$56 -> #N/A
B19: 1.11 | C19: =VLOOKUP($B19,'Orçamento Detalhado'!$A$14:$I$561,2,FALSE) -> #N/A | D19: =VLOOKUP($B19,'Orçamento Detalhado'!$A$14:$I$561,6,FALSE) -> #N/A | E19: =D19/$D$56 -> #N/A
B20: 1.12 | C20: =VLOOKUP($B20,'Orçamento Detalhado'!$A$14:$I$561,2,FALSE) -> #N/A | D20: =VLOOKUP($B20,'Orçamento Detalhado'!$A$14:$I$561,6,FALSE) -> #N/A | E20: =D20/$D$56 -> #N/A
... B29: 1.22 | C29: =VLOOKUP($B29,'Orçamento Detalhado'!$A$14:$I$561,2,FALSE) -> #N/A | D29: =VLOOKUP($B29,'Orçamento Detalhado'!$A$14:$I$561,6,FALSE) -> #N/A | E29: =D29/$D$56 -> #N/A
B30: 2 | C30: =VLOOKUP($B30,'Orçamento Detalhado'!$A$14:$I$561,2,FALSE) -> 0 | D30: =VLOOKUP($B30,'Orçamento Detalhado'!$A$14:$I$561,6,FALSE) -> 0 | E30: =D30/$D$56 -> #N/A
B31: 2.1 | C31: =VLOOKUP($B31,'Orçamento Detalhado'!$A$14:$I$561,2,FALSE) -> 0 | D31: =VLOOKUP($B31,'Orçamento Detalhado'!$A$14:$I$561,6,FALSE) -> 0 | E31: =D31/$D$56 -> #N/A
B32: 2.2 | C32: =VLOOKUP($B32,'Orçamento Detalhado'!$A$14:$I$561,2,FALSE) -> 0 | D32: =VLOOKUP($B32,'Orçamento Detalhado'!$A$14:$I$561,6,FALSE) -> 0 | E32: =D32/$D$56 -> #N/A
B33: 2.3 | C33: =VLOOKUP($B33,'Orçamento Detalhado'!$A$14:$I$561,2,FALSE) -> 0 | D33: =VLOOKUP($B33,'Orçamento Detalhado'!$A$14:$I$561,6,FALSE) -> 0 | E33: =D33/$D$56 -> #N/A
B34: 2.4 | C34: =VLOOKUP($B34,'Orçamento Detalhado'!$A$14:$I$561,2,FALSE) -> 0 | D34: =VLOOKUP($B34,'Orçamento Detalhado'!$A$14:$I$561,6,FALSE) -> 0 | E34: =D34/$D$56 -> #N/A
B35: 2.5 | C35: =VLOOKUP($B35,'Orçamento Detalhado'!$A$14:$I$561,2,FALSE) -> 0 | D35: =VLOOKUP($B35,'Orçamento Detalhado'!$A$14:$I$561,6,FALSE) -> 0 | E35: =D35/$D$56 -> #N/A
B36: 2.6 | C36: =VLOOKUP($B36,'Orçamento Detalhado'!$A$14:$I$561,2,FALSE) -> 0 | D36: =VLOOKUP($B36,'Orçamento Detalhado'!$A$14:$I$561,6,FALSE) -> 0 | E36: =D36/$D$56 -> #N/A
B37: 2.7 | C37: =VLOOKUP($B37,'Orçamento Detalhado'!$A$14:$I$561,2,FALSE) -> 0 | D37: =VLOOKUP($B37,'Orçamento Detalhado'!$A$14:$I$561,6,FALSE) -> 0 | E37: =D37/$D$56 -> #N/A
B38: 2.8 | C38: =VLOOKUP($B38,'Orçamento Detalhado'!$A$14:$I$561,2,FALSE) -> 0 | D38: =VLOOKUP($B38,'Orçamento Detalhado'!$A$14:$I$561,6,FALSE) -> 0 | E38: =D38/$D$56 -> #N/A
B39: 2.9 | C39: =VLOOKUP($B39,'Orçamento Detalhado'!$A$14:$I$561,2,FALSE) -> 0 | D39: =VLOOKUP($B39,'Orçamento Detalhado'!$A$14:$I$561,6,FALSE) -> 0 | E39: =D39/$D$56 -> #N/A
B40: 2.10 | C40: =VLOOKUP($B40,'Orçamento Detalhado'!$A$14:$I$561,2,FALSE) -> 0 | D40: =VLOOKUP($B40,'Orçamento Detalhado'!$A$14:$I$561,6,FALSE) -> 0 | E40: =D40/$D$56 -> #N/A
B41: 3 | C41: =VLOOKUP($B41,'Orçamento Detalhado'!$A$14:$I$561,2,FALSE) -> 0 | D41: =VLOOKUP($B41,'Orçamento Detalhado'!$A$14:$I$561,6,FALSE) -> 0 | E41: =D41/$D$56 -> #N/A
B42: 25 | C42: =VLOOKUP($B42,'Orçamento Detalhado'!$A$14:$I$561,2,FALSE) -> #N/A | D42: =VLOOKUP($B42,'Orçamento Detalhado'!$A$14:$I$561,6,FALSE) -> #N/A | E42: =D42/$D$56 -> #N/A
B43: 24 | C43: =VLOOKUP($B43,'Orçamento Detalhado'!$A$14:$I$561,2,FALSE) -> #N/A | D43: =VLOOKUP($B43,'Orçamento Detalhado'!$A$14:$I$561,6,FALSE) -> #N/A | E43: =D43/$D$56 -> #N/A
B44: 25 | C44: =VLOOKUP($B44,'Orçamento Detalhado'!$A$14:$I$561,2,FALSE) -> #N/A | D44: =VLOOKUP($B44,'Orçamento Detalhado'!$A$14:$I$561,6,FALSE) -> #N/A | E44: =D44/$D$56 -> #N/A
B45: 24 | C45: =VLOOKUP($B45,'Orçamento Detalhado'!$A$14:$I$561,2,FALSE) -> #N/A | D45: =VLOOKUP($B45,'Orçamento Detalhado'!$A$14:$I$561,6,FALSE) -> #N/A | E45: =D45/$D$56 -> #N/A
B46: 25 | C46: =VLOOKUP($B46,'Orçamento Detalhado'!$A$14:$I$561,2,FALSE) -> #N/A | D46: =VLOOKUP($B46,'Orçamento Detalhado'!$A$14:$I$561,6,FALSE) -> #N/A | E46: =D46/$D$56 -> #N/A
B47: 24 | C47: =VLOOKUP($B47,'Orçamento Detalhado'!$A$14:$I$561,2,FALSE) -> #N/A | D47: =VLOOKUP($B47,'Orçamento Detalhado'!$A$14:$I$561,6,FALSE) -> #N/A | E47: =D47/$D$56 -> #N/A
B48: 25 | C48: =VLOOKUP($B48,'Orçamento Detalhado'!$A$14:$I$561,2,FALSE) -> #N/A | D48: =VLOOKUP($B48,'Orçamento Detalhado'!$A$14:$I$561,6,FALSE) -> #N/A | E48: =D48/$D$56 -> #N/A
B49: 24 | C49: =VLOOKUP($B49,'Orçamento Detalhado'!$A$14:$I$561,2,FALSE) -> #N/A | D49: =VLOOKUP($B49,'Orçamento Detalhado'!$A$14:$I$561,6,FALSE) -> #N/A | E49: =D49/$D$56 -> #N/A
...

Sheet Quadro Resumo Orcamento
B1: QUADRO RESUMO DO ORÇAMENTO
A2: Empreendimento: | B2: =IF('Resumo Tecnico'!B6:G6="","",'Resumo Tecnico'!B6:G6)
A3: Endereço: | B3: =IF('Resumo Tecnico'!B8:G8="","",'Resumo Tecnico'!B8:G8)
A4: Agente Promotor: | B4: =IF('Resumo Tecnico'!B12:H12="","",'Resumo Tecnico'!B12:H12) | C4: CPF/ CNPJ: | D4: =IF('Resumo Tecnico'!I14="","",'Resumo Tecnico'!I14)
A5: Área Construída: | B5: =IF(('Orçamento Detalhado'!H5)=0,"",'Orçamento Detalhado'!H5) | C5: Total de UH: | D5: =IF('Resumo Tecnico'!C69=0,"",'Resumo Tecnico'!C69)
A6: Data-Base: | B6: ='Orçamento Detalhado'!H7 -> 46023 | F6: ='Resumo Tecnico'!L5 -> CCA-RTE_ResumoTecnicoEmpreendimento_v12 agosto2026
A7: RESUMO DO ORÇAMENTO
A8: ITEM | B8: DESCRIÇÃO | C8: CUSTO TOTAL | E8: VALOR / M2 | F8: VALOR POR UH | H8: conferência
A10: 0 | B10: TERRENO (sem BDI) | C10: =VLOOKUP(B10,'Orçamento Detalhado'!D:J,7,FALSE) -> 0 | D10: =IF($C$53=0,0,C10/$C$53) -> 0 | E10: =IFERROR(IF(C10=0,0,$C10/$B$5),"") -> 0 | F10: =IFERROR(IF(C10=0,0,$C10/$D$5),"") -> 0 | H10: =IF(C10='Orçamento Detalhado'!J14,"OK","FALSO") -> OK
A13: 1 | B13: INDIRETOS (com BDI) | C13: =VLOOKUP(B13,'Orçamento Detalhado'!D:J,7,FALSE) -> 0 | D13: =IF($C$53=0,0,C13/$C$53) -> 0 | E13: =IFERROR(IF(C13=0,0,$C13/$B$5),"") -> 0 | F13: =IFERROR(IF(C13=0,0,$C13/$D$5),"") -> 0 | H13: =IF(C13='Orçamento Detalhado'!J16,"OK","FALSO") -> OK
A14: 1.1 | B14: =VLOOKUP($A14,'Orçamento Detalhado'!$A$17:$I$528,4,FALSE) -> SERVIÇOS TECNICOS | C14: =VLOOKUP($A14,'Orçamento Detalhado'!$A$17:$J$528,10,FALSE) -> 0 | D14: =IFERROR(IF($C$53=0,0,C14/$C$53),"") -> 0 | E14: =IFERROR(IF(C14=0,0,$C14/$B$5),"") -> 0 | F14: =IFERROR(IF(C14=0,0,$C14/$D$5),"") -> 0
A15: 1.2 | B15: =VLOOKUP($A15,'Orçamento Detalhado'!$A$17:$I$528,4,FALSE) -> CUSTOS GERAIS/MENSAIS | C15: =VLOOKUP($A15,'Orçamento Detalhado'!$A$17:$J$528,10,FALSE) -> 0 | D15: =IFERROR(IF($C$53=0,0,C15/$C$53),"") -> 0 | E15: =IFERROR(IF(C15=0,0,$C15/$B$5),"") -> 0 | F15: =IFERROR(IF(C15=0,0,$C15/$D$5),"") -> 0
A16: 2 | B16: HABITAÇÃO (com BDI) | C16: =VLOOKUP(B16,'Orçamento Detalhado'!D:J,7,FALSE) -> 0 | D16: =IF($C$53=0,0,C16/$C$53) -> 0 | E16: =IFERROR(IF(C16=0,0,$C16/$B$5),"") -> 0 | F16: =IFERROR(IF(C16=0,0,$C16/$D$5),"") -> 0 | H16: =IF(C16='Orçamento Detalhado'!J48,"OK","FALSO") -> OK
A17: 2.1 | B17: =VLOOKUP($A17,'Orçamento Detalhado'!$A$17:$I$528,4,FALSE) -> FUNDAÇÕES | C17: =VLOOKUP($A17,'Orçamento Detalhado'!$A$17:$J$528,10,FALSE) -> 0 | D17: =IFERROR(IF($C$53=0,0,C17/$C$53),"") -> 0 | E17: =IFERROR(IF(C17=0,0,$C17/$B$5),"") -> 0 | F17: =IFERROR(IF(C17=0,0,$C17/$D$5),"") -> 0
A18: 2.2 | B18: =VLOOKUP($A18,'Orçamento Detalhado'!$A$17:$I$528,4,FALSE) -> ESTRUTURA | C18: =VLOOKUP($A18,'Orçamento Detalhado'!$A$17:$J$528,10,FALSE) -> 0 | D18: =IFERROR(IF($C$53=0,0,C18/$C$53),"") -> 0 | E18: =IFERROR(IF(C18=0,0,$C18/$B$5),"") -> 0 | F18: =IFERROR(IF(C18=0,0,$C18/$D$5),"") -> 0
A19: 2.3 | B19: =VLOOKUP($A19,'Orçamento Detalhado'!$A$17:$I$528,4,FALSE) -> PAREDES E PAÍNEIS | C19: =VLOOKUP($A19,'Orçamento Detalhado'!$A$17:$J$528,10,FALSE) -> 0 | D19: =IFERROR(IF($C$53=0,0,C19/$C$53),"") -> 0 | E19: =IFERROR(IF(C19=0,0,$C19/$B$5),"") -> 0 | F19: =IFERROR(IF(C19=0,0,$C19/$D$5),"") -> 0
A20: 2.4 | B20: =VLOOKUP($A20,'Orçamento Detalhado'!$A$17:$I$528,4,FALSE) -> ESQUADRIAS DE ALUMINIO | C20: =VLOOKUP($A20,'Orçamento Detalhado'!$A$17:$J$528,10,FALSE) -> 0 | D20: =IFERROR(IF($C$53=0,0,C20/$C$53),"") -> 0 | E20: =IFERROR(IF(C20=0,0,$C20/$B$5),"") -> 0 | F20: =IFERROR(IF(C20=0,0,$C20/$D$5),"") -> 0
A21: 2.5 | B21: =VLOOKUP($A21,'Orçamento Detalhado'!$A$17:$I$528,4,FALSE) -> ESQUADRIAS DE FERRO | C21: =VLOOKUP($A21,'Orçamento Detalhado'!$A$17:$J$528,10,FALSE) -> 0 | D21: =IFERROR(IF($C$53=0,0,C21/$C$53),"") -> 0 | E21: =IFERROR(IF(C21=0,0,$C21/$B$5),"") -> 0 | F21: =IFERROR(IF(C21=0,0,$C21/$D$5),"") -> 0
A22: 2.6 | B22: =VLOOKUP($A22,'Orçamento Detalhado'!$A$17:$I$528,4,FALSE) -> ESQUADRIAS DE MADEIRA | C22: =VLOOKUP($A22,'Orçamento Detalhado'!$A$17:$J$528,10,FALSE) -> 0 | D22: =IFERROR(IF($C$53=0,0,C22/$C$53),"") -> 0 | E22: =IFERROR(IF(C22=0,0,$C22/$B$5),"") -> 0 | F22: =IFERROR(IF(C22=0,0,$C22/$D$5),"") -> 0
A23: 2.7 | B23: =VLOOKUP($A23,'Orçamento Detalhado'!$A$17:$I$528,4,FALSE) -> VIDROS E PVCs | C23: =VLOOKUP($A23,'Orçamento Detalhado'!$A$17:$J$528,10,FALSE) -> 0 | D23: =IFERROR(IF($C$53=0,0,C23/$C$53),"") -> 0 | E23: =IFERROR(IF(C23=0,0,$C23/$B$5),"") -> 0 | F23: =IFERROR(IF(C23=0,0,$C23/$D$5),"") -> 0
A24: 2.8 | B24: =VLOOKUP($A24,'Orçamento Detalhado'!$A$17:$I$528,4,FALSE) -> COBERTURAS | C24: =VLOOKUP($A24,'Orçamento Detalhado'!$A$17:$J$528,10,FALSE) -> 0 | D24: =IFERROR(IF($C$53=0,0,C24/$C$53),"") -> 0 | E24: =IFERROR(IF(C24=0,0,$C24/$B$5),"") -> 0 | F24: =IFERROR(IF(C24=0,0,$C24/$D$5),"") -> 0
A25: 2.9 | B25: =VLOOKUP($A25,'Orçamento Detalhado'!$A$17:$I$528,4,FALSE) -> IMPERMEABILIZAÇÕES E TRATAMENTOS | C25: =VLOOKUP($A25,'Orçamento Detalhado'!$A$17:$J$528,10,FALSE) -> 0 | D25: =IFERROR(IF($C$53=0,0,C25/$C$53),"") -> 0 | E25: =IFERROR(IF(C25=0,0,$C25/$B$5),"") -> 0 | F25: =IFERROR(IF(C25=0,0,$C25/$D$5),"") -> 0
A26: 2.10 | B26: =VLOOKUP($A26,'Orçamento Detalhado'!$A$17:$I$528,4,FALSE) -> REVESTIMENTOS INTERNOS | C26: =VLOOKUP($A26,'Orçamento Detalhado'!$A$17:$J$528,10,FALSE) -> 0 | D26: =IFERROR(IF($C$53=0,0,C26/$C$53),"") -> 0 | E26: =IFERROR(IF(C26=0,0,$C26/$B$5),"") -> 0 | F26: =IFERROR(IF(C26=0,0,$C26/$D$5),"") -> 0
A27: 2.11 | B27: =VLOOKUP($A27,'Orçamento Detalhado'!$A$17:$I$528,4,FALSE) -> REVESTIMENTO EXTERNO | C27: =VLOOKUP($A27,'Orçamento Detalhado'!$A$17:$J$528,10,FALSE) -> 0 | D27: =IFERROR(IF($C$53=0,0,C27/$C$53),"") -> 0 | E27: =IFERROR(IF(C27=0,0,$C27/$B$5),"") -> 0 | F27: =IFERROR(IF(C27=0,0,$C27/$D$5),"") -> 0
A28: 2.12 | B28: =VLOOKUP($A28,'Orçamento Detalhado'!$A$17:$I$528,4,FALSE) -> FORROS | C28: =VLOOKUP($A28,'Orçamento Detalhado'!$A$17:$J$528,10,FALSE) -> 0 | D28: =IFERROR(IF($C$53=0,0,C28/$C$53),"") -> 0 | E28: =IFERROR(IF(C28=0,0,$C28/$B$5),"") -> 0 | F28: =IFERROR(IF(C28=0,0,$C28/$D$5),"") -> 0
... A35: 2.19 | B35: =VLOOKUP($A35,'Orçamento Detalhado'!$A$17:$I$528,4,FALSE) -> COMPLEMENTAÇÃO | C35: =VLOOKUP($A35,'Orçamento Detalhado'!$A$17:$J$528,10,FALSE) -> 0 | D35: =IFERROR(IF($C$53=0,0,C35/$C$53),"") -> 0 | E35: =IFERROR(IF(C35=0,0,$C35/$B$5),"") -> 0 | F35: =IFERROR(IF(C35=0,0,$C35/$D$5),"") -> 0
A38: 3 | B38: INFRA-ESTRUTURA INTERNA (com BDI) | C38: =VLOOKUP(B38,'Orçamento Detalhado'!D:J,7,FALSE) -> 0 | D38: =IFERROR(IF($C$53=0,0,C38/$C$53),"") -> 0 | E38: =IFERROR(IF(C38=0,0,$C38/$B$5),"") -> 0 | F38: =IFERROR(IF(C38=0,0,$C38/$D$5),"") -> 0 | H38: =IF(C38='Orçamento Detalhado'!J361,"OK","FALSO") -> OK
A41: 4 | B41: EQUIPAMENTOS COMUNITÁRIOS (com BDI) | C41: =VLOOKUP(B41,'Orçamento Detalhado'!D:J,7,FALSE) -> 0 | D41: =IFERROR(IF($C$53=0,0,C41/$C$53),"") -> 0 | E41: =IFERROR(IF(C41=0,0,$C41/$B$5),"") -> 0 | F41: =IFERROR(IF(C41=0,0,$C41/$D$5),"") -> 0 | H41: =IF(C41='Orçamento Detalhado'!J480,"OK","FALSO") -> OK
A44: 5 | B44: INFRA-ESTRUTURA EXTERNA (com BDI) | C44: =VLOOKUP(B44,'Orçamento Detalhado'!D:J,7,FALSE) -> 0 | D44: =IFERROR(IF($C$53=0,0,C44/$C$53),"") -> 0 | E44: =IFERROR(IF(C44=0,0,$C44/$B$5),"") -> 0 | F44: =IFERROR(IF(C44=0,0,$C44/$D$5),"") -> 0 | H44: =IF(C44='Orçamento Detalhado'!J493,"OK","FALSO") -> OK
A47: 6 | B47: SEGUROS (sem BDI) | C47: =VLOOKUP(B47,'Orçamento Detalhado'!D:J,7,FALSE) -> 0 | D47: =IFERROR(IF($C$53=0,0,C47/$C$53),"") -> 0 | E47: =IFERROR(IF(C47=0,0,$C47/$B$5),"") -> 0 | F47: =IFERROR(IF(C47=0,0,$C47/$D$5),"") -> 0 | H47: =IF(C47='Orçamento Detalhado'!J506,"OK","FALSO") -> OK
A50: 7 | B50: LEGALIZAÇÃO (sem BDI) | C50: =VLOOKUP(B50,'Orçamento Detalhado'!D:J,7,FALSE) -> 0 | D50: =IFERROR(IF($C$53=0,0,C50/$C$53),"") -> 0 | E50: =IFERROR(IF(C50=0,0,$C50/$B$5),"") -> 0 | F50: =IFERROR(IF(C50=0,0,$C50/$D$5),"") -> 0 | H50: =IF(C50='Orçamento Detalhado'!J513,"OK","FALSO") -> OK
A53: TOTAL (0) + (1) + (2) + (3) + (4) + (5) + (6) + (7) | C53: =SUM(C13,C16,C38,C41,C44,C47,C50,C10) -> 0 | D53: =IF($C$53=0,0,C53/$C$53) -> 0 | E53: =IFERROR(IF(C53=0,0,$C53/$B$5),"") -> 0 | F53: =IFERROR(IF(C53=0,0,$C53/$D$5),"") -> 0
C60: Assinatura do Responsável Técnico pelo Orçamento
C62: Nome:
C63: CREA/CAU:
C64: CPF:
C66: Local:
C67: Data:

Sheet Orçamento Detalhado_Global
C2: ORÇAMENTO DETALHADO GLOBAL | G2: Valor de Terreno: | H2: =J15 -> 0
G3: Custo Total de Obras com BDI: | H3: =J535 -> 0
A4: Empreendimento: | C4: =IF('Resumo Tecnico'!B6="","",'Resumo Tecnico'!B6) | G4: Área Privativa: | I4: =IFERROR(H3/H4,0) -> 0
A5: Endereço: | C5: =IF('Resumo Tecnico'!B8="","",'Resumo Tecnico'!B8) | G5: Área Construída Real (NBR): | I5: =IFERROR(H3/H5,0) -> 0
A6: Agente Promotor: | C6: =IF('Resumo Tecnico'!B12="","",'Resumo Tecnico'!B12) | G6: Prazo de obra (meses):
A7: Construtora: | C7: =IF('Resumo Tecnico'!B14="","",'Resumo Tecnico'!B14) | G7: Data base: | H7: 46023
A8: Total UH do Empreendimento: | G8: BDI | H8: 0.2
A10: CCA-RTE_ResumoTecnicoEmpreendimento_v11-junho26
A11: ITEM | B11: REFERÊNCIA | D11: DISCRIMINAÇÃO DOS SERVIÇOS | E11: QTDE. | F11: UN. | G11: CUSTO UNIT. SEM B.D.I. | H11: TOTAL (SEM B.D.I) | I11: CUSTO UNIT. COM B.D.I. | J11: TOTAL (COM B.D.I.) | L11: COMENTÁRIOS
B12: tabela referência | C12: código ou especif.
A14: 0 | D14: TERRENO (sem BDI) | H14: =H15 -> 0 | J14: =J15 -> 0
A15: 0.1 | D15: TERRENO | F15: m² | G15: 382.07313 | H15: =IF(E15=0,0,G15*E15) -> 0 | J15: =H15 -> 0
A16: 1 | D16: INDIRETOS (com BDI) | H16: =SUM(H17,H29) -> 0 | J16: =SUM(J17,J29) -> 0
A17: 1.1 | D17: SERVIÇOS TECNICOS | H17: =SUM(H18:H28) -> 0 | J17: =SUM(J18:J28) -> 0
A18: 1.1.1 | B18: [ ESCOLHER ] | D18: Projeto Legal | F18: VB | H18: =IF(E18=0,"",G18*E18) | I18: =IF(G18="","",G18*(1+$H$8)) | J18: =IF(E18=0,"",I18*E18)
A19: 1.1.2 | B19: [ ESCOLHER ] | D19: Projetos Técnicos (Complementar e Executivo) | F19: VB | H19: =IF(E19=0,"",G19*E19) | I19: =IF(G19="","",G19*(1+$H$8)) | J19: =IF(E19=0,"",I19*E19)
A20: 1.1.3 | B20: [ ESCOLHER ] | D20: Projeto Final (As Built) | F20: VB | H20: =IF(E20=0,"",G20*E20) | I20: =IF(G20="","",G20*(1+$H$8)) | J20: =IF(E20=0,"",I20*E20)
A21: 1.1.4 | B21: [ ESCOLHER ] | D21: Sondagens | F21: VB | H21: =IF(E21=0,"",G21*E21) | I21: =IF(G21="","",G21*(1+$H$8)) | J21: =IF(E21=0,"",I21*E21)
A22: 1.1.5 | B22: [ ESCOLHER ] | D22: Levantamento Planialtimetrico | F22: VB | H22: =IF(E22=0,"",G22*E22) | I22: =IF(G22="","",G22*(1+$H$8)) | J22: =IF(E22=0,"",I22*E22)
A23: 1.1.6 | B23: [ ESCOLHER ] | D23: Laudo de Vizinhança | F23: VB | H23: =IF(E23=0,"",G23*E23) | I23: =IF(G23="","",G23*(1+$H$8)) | J23: =IF(E23=0,"",I23*E23)
A24: 1.1.7 | B24: [ ESCOLHER ] | H24: =IF(E24=0,"",G24*E24) | I24: =IF(G24="","",G24*(1+$H$8)) | J24: =IF(E24=0,"",I24*E24)
A25: 1.1.8 | B25: [ ESCOLHER ] | H25: =IF(E25=0,"",G25*E25) | I25: =IF(G25="","",G25*(1+$H$8)) | J25: =IF(E25=0,"",I25*E25)
A26: 1.1.9 | B26: [ ESCOLHER ] | H26: =IF(E26=0,"",G26*E26) | I26: =IF(G26="","",G26*(1+$H$8)) | J26: =IF(E26=0,"",I26*E26)
A27: 1.1.10 | B27: [ ESCOLHER ] | H27: =IF(E27=0,"",G27*E27) | I27: =IF(G27="","",G27*(1+$H$8)) | J27: =IF(E27=0,"",I27*E27)
A28: 1.1.11 | B28: [ ESCOLHER ] | H28: =IF(E28=0,"",G28*E28) | I28: =IF(G28="","",G28*(1+$H$8)) | J28: =IF(E28=0,"",I28*E28)
A29: 1.2 | D29: CUSTOS GERAIS/MENSAIS | H29: =SUM(H30:H47) -> 0 | J29: =SUM(J30:J47) -> 0
A30: 1.2.1 | B30: [ ESCOLHER ] | D30: Canteiro Provisorio | F30: UNID | H30: =IF(E30=0,"",G30*E30) | I30: =IF(G30="","",G30*(1+$H$8)) | J30: =IF(E30=0,"",I30*E30)
A31: 1.2.2 | B31: [ ESCOLHER ] | D31: Ligações Provisorias | F31: UNID | H31: =IF(E31=0,"",G31*E31) | I31: =IF(G31="","",G31*(1+$H$8)) | J31: =IF(E31=0,"",I31*E31)
A32: 1.2.3 | B32: [ ESCOLHER ] | D32: Canteiro Definitivo | F32: M2 | H32: =IF(E32=0,"",G32*E32) | I32: =IF(G32="","",G32*(1+$H$8)) | J32: =IF(E32=0,"",I32*E32)
A33: 1.2.4 | B33: [ ESCOLHER ] | D33: Consumo Mensais (Agua / Luz / Telefone / Internet) | F33: MÊS | H33: =IF(E33=0,"",G33*E33) | I33: =IF(G33="","",G33*(1+$H$8)) | J33: =IF(E33=0,"",I33*E33)
A34: 1.2.5 | B34: [ ESCOLHER ] | D34: Transportes máquinas e equipamentos | F34: VB | H34: =IF(E34=0,"",G34*E34) | I34: =IF(G34="","",G34*(1+$H$8)) | J34: =IF(E34=0,"",I34*E34)
A35: 1.2.6 | B35: [ ESCOLHER ] | D35: Equip. de Proteção Coletivos (bandejas, proteções perifericas, tela fachadeira) | F35: MÊS | H35: =IF(E35=0,"",G35*E35) | I35: =IF(G35="","",G35*(1+$H$8)) | J35: =IF(E35=0,"",I35*E35)
A36: 1.2.7 | B36: [ ESCOLHER ] | D36: Vigilancia Patrimonial | F36: MÊS | H36: =IF(E36=0,"",G36*E36) | I36: =IF(G36="","",G36*(1+$H$8)) | J36: =IF(E36=0,"",I36*E36)
A37: 1.2.8 | B37: [ ESCOLHER ] | D37: Locação de equipamentos | F37: MÊS | H37: =IF(E37=0,"",G37*E37) | I37: =IF(G37="","",G37*(1+$H$8)) | J37: =IF(E37=0,"",I37*E37)
A38: 1.2.9 | B38: [ ESCOLHER ] | D38: Segurança e medicina do trabalho | F38: MÊS | H38: =IF(E38=0,"",G38*E38) | I38: =IF(G38="","",G38*(1+$H$8)) | J38: =IF(E38=0,"",I38*E38)
A39: 1.2.10 | B39: [ ESCOLHER ] | D39: Equipe Permanente (Engº Residente, Mestre, Encarregados, Almoxarife, etc) | F39: MÊS | H39: =IF(E39=0,"",G39*E39) | I39: =IF(G39="","",G39*(1+$H$8)) | J39: =IF(E39=0,"",I39*E39)
A40: 1.2.11 | B40: [ ESCOLHER ] | D40: Controle Tecnologico | F40: M³ | H40: =IF(E40=0,"",G40*E40) | I40: =IF(G40="","",G40*(1+$H$8)) | J40: =IF(E40=0,"",I40*E40)
A41: 1.2.12 | B41: [ ESCOLHER ] | D41: Gestão de Resíduos e Qualidade | F41: UNID | H41: =IF(E41=0,"",G41*E41) | I41: =IF(G41="","",G41*(1+$H$8)) | J41: =IF(E41=0,"",I41*E41)
... A43: 1.2.14 | B43: [ ESCOLHER ] | D43: Demais elementos de canteiro (Despesas técnicas, tapume, preparo via de acesso, baias, lava rodas, portões, extintor, despesas fixas, etc) | F43: MÊS | H43: =IF(E43=0,"",G43*E43) | I43: =IF(G43="","",G43*(1+$H$8)) | J43: =IF(E43=0,"",I43*E43)
A44: 1.2.15 | B44: [ ESCOLHER ] | H44: =IF(E44=0,"",G44*E44) | I44: =IF(G44="","",G44*(1+$H$8)) | J44: =IF(E44=0,"",I44*E44)
...

Sheet Orçamento Detalhado
C2: ORÇAMENTO DETALHADO | G2: Valor de Terreno: | H2: =J15 -> 0
G3: Custo Total de Obras com BDI: | H3: =J536 -> 0
A4: Empreendimento: | C4: =IF('Resumo Tecnico'!B6="","",'Resumo Tecnico'!B6) | G4: Área Privativa: | H4: ='Resumo Tecnico'!F69 -> 0 | I4: =IFERROR(H3/H4,0) -> 0
A5: Endereço: | C5: =IF('Resumo Tecnico'!B8="","",'Resumo Tecnico'!B8) | G5: Área Construída Real (NBR): | H5: ='Resumo Tecnico'!H69 -> 0 | I5: =IFERROR(H3/H5,0) -> 0
A6: Agente Promotor: | C6: =IF('Resumo Tecnico'!B12="","",'Resumo Tecnico'!B12) | G6: Prazo de obra (meses): | H6: =IF('Resumo Tecnico'!K73=0,0,'Resumo Tecnico'!K73) -> 0
A7: Construtora: | C7: =IF('Resumo Tecnico'!B14="","",'Resumo Tecnico'!B14) | G7: Data base: | H7: ='Orçamento Detalhado_Global'!H7 -> 46023
A8: Total de UH (CCA): | C8: =IF('Resumo Tecnico'!C69=0,"",'Resumo Tecnico'!C69) | G8: BDI | H8: ='Orçamento Detalhado_Global'!H8 -> 0.2
A10: ='Resumo Tecnico'!L5 -> CCA-RTE_ResumoTecnicoEmpreendimento_v12 agosto2026
A11: ITEM | B11: REFERÊNCIA | D11: DISCRIMINAÇÃO DOS SERVIÇOS | E11: QTDE. | F11: UN. | G11: CUSTO UNIT. SEM B.D.I. | H11: TOTAL (SEM B.D.I) | I11: CUSTO UNIT. COM B.D.I. | J11: TOTAL (COM B.D.I.) | L11: COMENTÁRIOS
B12: tabela referência | C12: código ou especif.
A14: 0 | D14: TERRENO (sem BDI) | H14: =H15 -> 0 | J14: =J15 -> 0
A15: 0.1 | D15: TERRENO | E15: =ROUND('Orçamento Detalhado_Global'!E15*'Orçamento Detalhado'!$E$10,6) -> 0 | F15: ='Orçamento Detalhado_Global'!F15 -> m² | G15: ='Orçamento Detalhado_Global'!G15 -> 382.07313 | H15: =IF(E15=0,0,G15*E15) -> 0 | J15: =H15 -> 0
A16: 1 | D16: INDIRETOS (com BDI) | H16: =SUM(H17,H29) -> 0 | J16: =SUM(J17,J29) -> 0
A17: 1.1 | D17: SERVIÇOS TECNICOS | H17: =SUM(H18:H28) -> 0 | J17: =SUM(J18:J28) -> 0
A18: 1.1.1 | B18: ='Orçamento Detalhado_Global'!B18 -> [ ESCOLHER ] | C18: =IF('Orçamento Detalhado_Global'!C18="","",'Orçamento Detalhado_Global'!C18) | D18: =IF('Orçamento Detalhado_Global'!D18="","",'Orçamento Detalhado_Global'!D18) -> Projeto Legal | E18: =IF('Orçamento Detalhado_Global'!E18="","",ROUND('Orçamento Detalhado_Global'!E18*'Orçamento Detalhado'!$E$10,6)) | F18: =IF('Orçamento Detalhado_Global'!F18="","",'Orçamento Detalhado_Global'!F18) -> VB | G18: ='Orçamento Detalhado_Global'!G18 -> 0 | H18: =IF(E18="","",ROUND(G18*E18,2)) | I18: ='Orçamento Detalhado_Global'!I18 | J18: =IF(E18="","",ROUND(I18*E18,2))
A19: 1.1.2 | B19: ='Orçamento Detalhado_Global'!B19 -> [ ESCOLHER ] | C19: =IF('Orçamento Detalhado_Global'!C19="","",'Orçamento Detalhado_Global'!C19) | D19: =IF('Orçamento Detalhado_Global'!D19="","",'Orçamento Detalhado_Global'!D19) -> Projetos Técnicos (Complementar e Executivo) | E19: =IF('Orçamento Detalhado_Global'!E19="","",ROUND('Orçamento Detalhado_Global'!E19*'Orçamento Detalhado'!$E$10,6)) | F19: =IF('Orçamento Detalhado_Global'!F19="","",'Orçamento Detalhado_Global'!F19) -> VB | G19: ='Orçamento Detalhado_Global'!G19 -> 0 | H19: =IF(E19="","",ROUND(G19*E19,2)) | I19: ='Orçamento Detalhado_Global'!I19 | J19: =IF(E19="","",ROUND(I19*E19,2))
A20: 1.1.3 | B20: ='Orçamento Detalhado_Global'!B20 -> [ ESCOLHER ] | C20: =IF('Orçamento Detalhado_Global'!C20="","",'Orçamento Detalhado_Global'!C20) | D20: =IF('Orçamento Detalhado_Global'!D20="","",'Orçamento Detalhado_Global'!D20) -> Projeto Final (As Built) | E20: =IF('Orçamento Detalhado_Global'!E20="","",ROUND('Orçamento Detalhado_Global'!E20*'Orçamento Detalhado'!$E$10,6)) | F20: =IF('Orçamento Detalhado_Global'!F20="","",'Orçamento Detalhado_Global'!F20) -> VB | G20: ='Orçamento Detalhado_Global'!G20 -> 0 | H20: =IF(E20="","",ROUND(G20*E20,2)) | I20: ='Orçamento Detalhado_Global'!I20 | J20: =IF(E20="","",ROUND(I20*E20,2))
A21: 1.1.4 | B21: ='Orçamento Detalhado_Global'!B21 -> [ ESCOLHER ] | C21: =IF('Orçamento Detalhado_Global'!C21="","",'Orçamento Detalhado_Global'!C21) | D21: =IF('Orçamento Detalhado_Global'!D21="","",'Orçamento Detalhado_Global'!D21) -> Sondagens | E21: =IF('Orçamento Detalhado_Global'!E21="","",ROUND('Orçamento Detalhado_Global'!E21*'Orçamento Detalhado'!$E$10,6)) | F21: =IF('Orçamento Detalhado_Global'!F21="","",'Orçamento Detalhado_Global'!F21) -> VB | G21: ='Orçamento Detalhado_Global'!G21 -> 0 | H21: =IF(E21="","",ROUND(G21*E21,2)) | I21: ='Orçamento Detalhado_Global'!I21 | J21: =IF(E21="","",ROUND(I21*E21,2))
A22: 1.1.5 | B22: ='Orçamento Detalhado_Global'!B22 -> [ ESCOLHER ] | C22: =IF('Orçamento Detalhado_Global'!C22="","",'Orçamento Detalhado_Global'!C22) | D22: =IF('Orçamento Detalhado_Global'!D22="","",'Orçamento Detalhado_Global'!D22) -> Levantamento Planialtimetrico | E22: =IF('Orçamento Detalhado_Global'!E22="","",ROUND('Orçamento Detalhado_Global'!E22*'Orçamento Detalhado'!$E$10,6)) | F22: =IF('Orçamento Detalhado_Global'!F22="","",'Orçamento Detalhado_Global'!F22) -> VB | G22: ='Orçamento Detalhado_Global'!G22 -> 0 | H22: =IF(E22="","",ROUND(G22*E22,2)) | I22: ='Orçamento Detalhado_Global'!I22 | J22: =IF(E22="","",ROUND(I22*E22,2))
A23: 1.1.6 | B23: ='Orçamento Detalhado_Global'!B23 -> [ ESCOLHER ] | C23: =IF('Orçamento Detalhado_Global'!C23="","",'Orçamento Detalhado_Global'!C23) | D23: =IF('Orçamento Detalhado_Global'!D23="","",'Orçamento Detalhado_Global'!D23) -> Laudo de Vizinhança | E23: =IF('Orçamento Detalhado_Global'!E23="","",ROUND('Orçamento Detalhado_Global'!E23*'Orçamento Detalhado'!$E$10,6)) | F23: =IF('Orçamento Detalhado_Global'!F23="","",'Orçamento Detalhado_Global'!F23) -> VB | G23: ='Orçamento Detalhado_Global'!G23 -> 0 | H23: =IF(E23="","",ROUND(G23*E23,2)) | I23: ='Orçamento Detalhado_Global'!I23 | J23: =IF(E23="","",ROUND(I23*E23,2))
A24: 1.1.7 | B24: ='Orçamento Detalhado_Global'!B24 -> [ ESCOLHER ] | C24: =IF('Orçamento Detalhado_Global'!C24="","",'Orçamento Detalhado_Global'!C24) | D24: =IF('Orçamento Detalhado_Global'!D24="","",'Orçamento Detalhado_Global'!D24) | E24: =IF('Orçamento Detalhado_Global'!E24="","",ROUND('Orçamento Detalhado_Global'!E24*'Orçamento Detalhado'!$E$10,6)) | F24: =IF('Orçamento Detalhado_Global'!F24="","",'Orçamento Detalhado_Global'!F24) | G24: ='Orçamento Detalhado_Global'!G24 -> 0 | H24: =IF(E24="","",ROUND(G24*E24,2)) | I24: ='Orçamento Detalhado_Global'!I24 | J24: =IF(E24="","",ROUND(I24*E24,2))
A25: 1.1.8 | B25: ='Orçamento Detalhado_Global'!B25 -> [ ESCOLHER ] | C25: =IF('Orçamento Detalhado_Global'!C25="","",'Orçamento Detalhado_Global'!C25) | D25: =IF('Orçamento Detalhado_Global'!D25="","",'Orçamento Detalhado_Global'!D25) | E25: =IF('Orçamento Detalhado_Global'!E25="","",ROUND('Orçamento Detalhado_Global'!E25*'Orçamento Detalhado'!$E$10,6)) | F25: =IF('Orçamento Detalhado_Global'!F25="","",'Orçamento Detalhado_Global'!F25) | G25: ='Orçamento Detalhado_Global'!G25 -> 0 | H25: =IF(E25="","",ROUND(G25*E25,2)) | I25: ='Orçamento Detalhado_Global'!I25 | J25: =IF(E25="","",ROUND(I25*E25,2))
A26: 1.1.9 | B26: ='Orçamento Detalhado_Global'!B26 -> [ ESCOLHER ] | C26: =IF('Orçamento Detalhado_Global'!C26="","",'Orçamento Detalhado_Global'!C26) | D26: =IF('Orçamento Detalhado_Global'!D26="","",'Orçamento Detalhado_Global'!D26) | E26: =IF('Orçamento Detalhado_Global'!E26="","",ROUND('Orçamento Detalhado_Global'!E26*'Orçamento Detalhado'!$E$10,6)) | F26: =IF('Orçamento Detalhado_Global'!F26="","",'Orçamento Detalhado_Global'!F26) | G26: ='Orçamento Detalhado_Global'!G26 -> 0 | H26: =IF(E26="","",ROUND(G26*E26,2)) | I26: ='Orçamento Detalhado_Global'!I26 | J26: =IF(E26="","",ROUND(I26*E26,2))
A27: 1.1.10 | B27: ='Orçamento Detalhado_Global'!B27 -> [ ESCOLHER ] | C27: =IF('Orçamento Detalhado_Global'!C27="","",'Orçamento Detalhado_Global'!C27) | D27: =IF('Orçamento Detalhado_Global'!D27="","",'Orçamento Detalhado_Global'!D27) | E27: =IF('Orçamento Detalhado_Global'!E27="","",ROUND('Orçamento Detalhado_Global'!E27*'Orçamento Detalhado'!$E$10,6)) | F27: =IF('Orçamento Detalhado_Global'!F27="","",'Orçamento Detalhado_Global'!F27) | G27: ='Orçamento Detalhado_Global'!G27 -> 0 | H27: =IF(E27="","",ROUND(G27*E27,2)) | I27: ='Orçamento Detalhado_Global'!I27 | J27: =IF(E27="","",ROUND(I27*E27,2))
A28: 1.1.11 | B28: ='Orçamento Detalhado_Global'!B28 -> [ ESCOLHER ] | C28: =IF('Orçamento Detalhado_Global'!C28="","",'Orçamento Detalhado_Global'!C28) | D28: =IF('Orçamento Detalhado_Global'!D28="","",'Orçamento Detalhado_Global'!D28) | E28: =IF('Orçamento Detalhado_Global'!E28="","",ROUND('Orçamento Detalhado_Global'!E28*'Orçamento Detalhado'!$E$10,6)) | F28: =IF('Orçamento Detalhado_Global'!F28="","",'Orçamento Detalhado_Global'!F28) | G28: ='Orçamento Detalhado_Global'!G28 -> 0 | H28: =IF(E28="","",ROUND(G28*E28,2)) | I28: ='Orçamento Detalhado_Global'!I28 | J28: =IF(E28="","",ROUND(I28*E28,2))
A29: 1.2 | D29: CUSTOS GERAIS/MENSAIS | H29: =SUM(H30:H47) -> 0 | J29: =SUM(J30:J47) -> 0
A30: 1.2.1 | B30: ='Orçamento Detalhado_Global'!B30 -> [ ESCOLHER ] | C30: =IF('Orçamento Detalhado_Global'!C30="","",'Orçamento Detalhado_Global'!C30) | D30: =IF('Orçamento Detalhado_Global'!D30="","",'Orçamento Detalhado_Global'!D30) -> Canteiro Provisorio | E30: =IF('Orçamento Detalhado_Global'!E30="","",ROUND('Orçamento Detalhado_Global'!E30*'Orçamento Detalhado'!$E$10,6)) | F30: =IF('Orçamento Detalhado_Global'!F30="","",'Orçamento Detalhado_Global'!F30) -> UNID | G30: ='Orçamento Detalhado_Global'!G30 -> 0 | H30: =IF(E30="","",ROUND(G30*E30,2)) | I30: ='Orçamento Detalhado_Global'!I30 | J30: =IF(E30="","",ROUND(I30*E30,2))
A31: 1.2.2 | B31: ='Orçamento Detalhado_Global'!B31 -> [ ESCOLHER ] | C31: =IF('Orçamento Detalhado_Global'!C31="","",'Orçamento Detalhado_Global'!C31) | D31: =IF('Orçamento Detalhado_Global'!D31="","",'Orçamento Detalhado_Global'!D31) -> Ligações Provisorias | E31: =IF('Orçamento Detalhado_Global'!E31="","",ROUND('Orçamento Detalhado_Global'!E31*'Orçamento Detalhado'!$E$10,6)) | F31: =IF('Orçamento Detalhado_Global'!F31="","",'Orçamento Detalhado_Global'!F31) -> UNID | G31: ='Orçamento Detalhado_Global'!G31 -> 0 | H31: =IF(E31="","",ROUND(G31*E31,2)) | I31: ='Orçamento Detalhado_Global'!I31 | J31: =IF(E31="","",ROUND(I31*E31,2))
A32: 1.2.3 | B32: ='Orçamento Detalhado_Global'!B32 -> [ ESCOLHER ] | C32: =IF('Orçamento Detalhado_Global'!C32="","",'Orçamento Detalhado_Global'!C32) | D32: =IF('Orçamento Detalhado_Global'!D32="","",'Orçamento Detalhado_Global'!D32) -> Canteiro Definitivo | E32: =IF('Orçamento Detalhado_Global'!E32="","",ROUND('Orçamento Detalhado_Global'!E32*'Orçamento Detalhado'!$E$10,6)) | F32: =IF('Orçamento Detalhado_Global'!F32="","",'Orçamento Detalhado_Global'!F32) -> M2 | G32: ='Orçamento Detalhado_Global'!G32 -> 0 | H32: =IF(E32="","",ROUND(G32*E32,2)) | I32: ='Orçamento Detalhado_Global'!I32 | J32: =IF(E32="","",ROUND(I32*E32,2))
A33: 1.2.4 | B33: ='Orçamento Detalhado_Global'!B33 -> [ ESCOLHER ] | C33: =IF('Orçamento Detalhado_Global'!C33="","",'Orçamento Detalhado_Global'!C33) | D33: =IF('Orçamento Detalhado_Global'!D33="","",'Orçamento Detalhado_Global'!D33) -> Consumo Mensais (Agua / Luz / Telefone / Internet) | E33: =IF('Orçamento Detalhado_Global'!E33="","",ROUND('Orçamento Detalhado_Global'!E33*'Orçamento Detalhado'!$E$10,6)) | F33: =IF('Orçamento Detalhado_Global'!F33="","",'Orçamento Detalhado_Global'!F33) -> MÊS | G33: ='Orçamento Detalhado_Global'!G33 -> 0 | H33: =IF(E33="","",ROUND(G33*E33,2)) | I33: ='Orçamento Detalhado_Global'!I33 | J33: =IF(E33="","",ROUND(I33*E33,2))
A34: 1.2.5 | B34: ='Orçamento Detalhado_Global'!B34 -> [ ESCOLHER ] | C34: =IF('Orçamento Detalhado_Global'!C34="","",'Orçamento Detalhado_Global'!C34) | D34: =IF('Orçamento Detalhado_Global'!D34="","",'Orçamento Detalhado_Global'!D34) -> Transportes máquinas e equipamentos | E34: =IF('Orçamento Detalhado_Global'!E34="","",ROUND('Orçamento Detalhado_Global'!E34*'Orçamento Detalhado'!$E$10,6)) | F34: =IF('Orçamento Detalhado_Global'!F34="","",'Orçamento Detalhado_Global'!F34) -> VB | G34: ='Orçamento Detalhado_Global'!G34 -> 0 | H34: =IF(E34="","",ROUND(G34*E34,2)) | I34: ='Orçamento Detalhado_Global'!I34 | J34: =IF(E34="","",ROUND(I34*E34,2))
A35: 1.2.6 | B35: ='Orçamento Detalhado_Global'!B35 -> [ ESCOLHER ] | C35: =IF('Orçamento Detalhado_Global'!C35="","",'Orçamento Detalhado_Global'!C35) | D35: =IF('Orçamento Detalhado_Global'!D35="","",'Orçamento Detalhado_Global'!D35) -> Equip. de Proteção Coletivos (bandejas, proteções perifericas, tela fachadeira) | E35: =IF('Orçamento Detalhado_Global'!E35="","",ROUND('Orçamento Detalhado_Global'!E35*'Orçamento Detalhado'!$E$10,6)) | F35: =IF('Orçamento Detalhado_Global'!F35="","",'Orçamento Detalhado_Global'!F35) -> MÊS | G35: ='Orçamento Detalhado_Global'!G35 -> 0 | H35: =IF(E35="","",ROUND(G35*E35,2)) | I35: ='Orçamento Detalhado_Global'!I35 | J35: =IF(E35="","",ROUND(I35*E35,2))
A36: 1.2.7 | B36: ='Orçamento Detalhado_Global'!B36 -> [ ESCOLHER ] | C36: =IF('Orçamento Detalhado_Global'!C36="","",'Orçamento Detalhado_Global'!C36) | D36: =IF('Orçamento Detalhado_Global'!D36="","",'Orçamento Detalhado_Global'!D36) -> Vigilancia Patrimonial | E36: =IF('Orçamento Detalhado_Global'!E36="","",ROUND('Orçamento Detalhado_Global'!E36*'Orçamento Detalhado'!$E$10,6)) | F36: =IF('Orçamento Detalhado_Global'!F36="","",'Orçamento Detalhado_Global'!F36) -> MÊS | G36: ='Orçamento Detalhado_Global'!G36 -> 0 | H36: =IF(E36="","",ROUND(G36*E36,2)) | I36: ='Orçamento Detalhado_Global'!I36 | J36: =IF(E36="","",ROUND(I36*E36,2))
A37: 1.2.8 | B37: ='Orçamento Detalhado_Global'!B37 -> [ ESCOLHER ] | C37: =IF('Orçamento Detalhado_Global'!C37="","",'Orçamento Detalhado_Global'!C37) | D37: =IF('Orçamento Detalhado_Global'!D37="","",'Orçamento Detalhado_Global'!D37) -> Locação de equipamentos | E37: =IF('Orçamento Detalhado_Global'!E37="","",ROUND('Orçamento Detalhado_Global'!E37*'Orçamento Detalhado'!$E$10,6)) | F37: =IF('Orçamento Detalhado_Global'!F37="","",'Orçamento Detalhado_Global'!F37) -> MÊS | G37: ='Orçamento Detalhado_Global'!G37 -> 0 | H37: =IF(E37="","",ROUND(G37*E37,2)) | I37: ='Orçamento Detalhado_Global'!I37 | J37: =IF(E37="","",ROUND(I37*E37,2))
A38: 1.2.9 | B38: ='Orçamento Detalhado_Global'!B38 -> [ ESCOLHER ] | C38: =IF('Orçamento Detalhado_Global'!C38="","",'Orçamento Detalhado_Global'!C38) | D38: =IF('Orçamento Detalhado_Global'!D38="","",'Orçamento Detalhado_Global'!D38) -> Segurança e medicina do trabalho | E38: =IF('Orçamento Detalhado_Global'!E38="","",ROUND('Orçamento Detalhado_Global'!E38*'Orçamento Detalhado'!$E$10,6)) | F38: =IF('Orçamento Detalhado_Global'!F38="","",'Orçamento Detalhado_Global'!F38) -> MÊS | G38: ='Orçamento Detalhado_Global'!G38 -> 0 | H38: =IF(E38="","",ROUND(G38*E38,2)) | I38: ='Orçamento Detalhado_Global'!I38 | J38: =IF(E38="","",ROUND(I38*E38,2))
A39: 1.2.10 | B39: ='Orçamento Detalhado_Global'!B39 -> [ ESCOLHER ] | C39: =IF('Orçamento Detalhado_Global'!C39="","",'Orçamento Detalhado_Global'!C39) | D39: =IF('Orçamento Detalhado_Global'!D39="","",'Orçamento Detalhado_Global'!D39) -> Equipe Permanente (Engº Residente, Mestre, Encarregados, Almoxarife, etc) | E39: =IF('Orçamento Detalhado_Global'!E39="","",ROUND('Orçamento Detalhado_Global'!E39*'Orçamento Detalhado'!$E$10,6)) | F39: =IF('Orçamento Detalhado_Global'!F39="","",'Orçamento Detalhado_Global'!F39) -> MÊS | G39: ='Orçamento Detalhado_Global'!G39 -> 0 | H39: =IF(E39="","",ROUND(G39*E39,2)) | I39: ='Orçamento Detalhado_Global'!I39 | J39: =IF(E39="","",ROUND(I39*E39,2))
A40: 1.2.11 | B40: ='Orçamento Detalhado_Global'!B40 -> [ ESCOLHER ] | C40: =IF('Orçamento Detalhado_Global'!C40="","",'Orçamento Detalhado_Global'!C40) | D40: =IF('Orçamento Detalhado_Global'!D40="","",'Orçamento Detalhado_Global'!D40) -> Controle Tecnologico | E40: =IF('Orçamento Detalhado_Global'!E40="","",ROUND('Orçamento Detalhado_Global'!E40*'Orçamento Detalhado'!$E$10,6)) | F40: =IF('Orçamento Detalhado_Global'!F40="","",'Orçamento Detalhado_Global'!F40) -> M³ | G40: ='Orçamento Detalhado_Global'!G40 -> 0 | H40: =IF(E40="","",ROUND(G40*E40,2)) | I40: ='Orçamento Detalhado_Global'!I40 | J40: =IF(E40="","",ROUND(I40*E40,2))
A41: 1.2.12 | B41: ='Orçamento Detalhado_Global'!B41 -> [ ESCOLHER ] | C41: =IF('Orçamento Detalhado_Global'!C41="","",'Orçamento Detalhado_Global'!C41) | D41: =IF('Orçamento Detalhado_Global'!D41="","",'Orçamento Detalhado_Global'!D41) -> Gestão de Resíduos e Qualidade | E41: =IF('Orçamento Detalhado_Global'!E41="","",ROUND('Orçamento Detalhado_Global'!E41*'Orçamento Detalhado'!$E$10,6)) | F41: =IF('Orçamento Detalhado_Global'!F41="","",'Orçamento Detalhado_Global'!F41) -> UNID | G41: ='Orçamento Detalhado_Global'!G41 -> 0 | H41: =IF(E41="","",ROUND(G41*E41,2)) | I41: ='Orçamento Detalhado_Global'!I41 | J41: =IF(E41="","",ROUND(I41*E41,2))
... A47: 1.2.18 | B47: ='Orçamento Detalhado_Global'!B47 -> [ ESCOLHER ] | C47: =IF('Orçamento Detalhado_Global'!C47="","",'Orçamento Detalhado_Global'!C47) | D47: =IF('Orçamento Detalhado_Global'!D47="","",'Orçamento Detalhado_Global'!D47) | E47: =IF('Orçamento Detalhado_Global'!E47="","",ROUND('Orçamento Detalhado_Global'!E47*'Orçamento Detalhado'!$E$10,6)) | F47: =IF('Orçamento Detalhado_Global'!F47="","",'Orçamento Detalhado_Global'!F47) | G47: ='Orçamento Detalhado_Global'!G47 -> 0 | H47: =IF(E47="","",ROUND(G47*E47,2)) | I47: ='Orçamento Detalhado_Global'!I47 | J47: =IF(E47="","",ROUND(I47*E47,2))
A48: 2 | D48: HABITAÇÃO (com BDI) | H48: =SUM(H49,H65,H77,H87,H106,H120,H138,H148,H158,H175,H191,H202,H212,H230,H249,H272,H323,H333,H353) -> 0 | J48: =SUM(J49,J65,J77,J87,J106,J120,J138,J148,J158,J175,J191,J202,J212,J230,J249,J272,J323,J333,J353) -> 0
...

Sheet Cronograma Fisico-Econ.
C1: CRONOGRAMA FÍSICO FINANCEIRO DETALHADO
B2: Empreendimento: | C2: ='Orçamento Detalhado'!C4
B3: Endereço: | C3: ='Orçamento Detalhado'!C5
B4: Agente Promotor: | C4: ='Orçamento Detalhado'!C6
B5: Data-Base: | C5: ='Orçamento Detalhado'!H7 -> 46023 | F5: 1 | H5: 0 | J5: =H5+1 -> 1 | L5: =J5+1 -> 2 | N5: =L5+1 -> 3 | P5: =N5+1 -> 4 | R5: =P5+1 -> 5 | T5: =R5+1 -> 6 | V5: =T5+1 -> 7 | X5: =V5+1 -> 8 | Z5: =X5+1 -> 9 | AB5: 10 | AD5: 11 | AF5: 12 | AH5: 13 | AJ5: 14 | AL5: 15 | AN5: 16 | AP5: 17 | AR5: 18 | AT5: 19 | AV5: 20 | AX5: 21 | AZ5: 22 | BB5: 23 | BD5: 24 | BF5: 25 | BH5: 26 | BJ5: 27 | BL5: 28 | BN5: 29 | BP5: 30
B6: ='Resumo Tecnico'!L5 -> CCA-RTE_ResumoTecnicoEmpreendimento_v12 agosto2026 | F6: 2 | G6: MÊS 0 | I6: 1 | K6: =I6+1 -> 2 | M6: =K6+1 -> 3 | O6: =M6+1 -> 4 | Q6: =O6+1 -> 5 | S6: =Q6+1 -> 6 | U6: =S6+1 -> 7 | W6: =U6+1 -> 8 | Y6: =W6+1 -> 9 | AA6: =Y6+1 -> 10 | AC6: =AA6+1 -> 11 | AE6: =AC6+1 -> 12 | AG6: =AE6+1 -> 13 | AI6: =AG6+1 -> 14 | AK6: =AI6+1 -> 15 | AM6: =AK6+1 -> 16 | AO6: =AM6+1 -> 17 | AQ6: =AO6+1 -> 18 | AS6: =AQ6+1 -> 19 | AU6: =AS6+1 -> 20 | AW6: =AU6+1 -> 21 | AY6: =AW6+1 -> 22 | BA6: =AY6+1 -> 23 | BC6: =BA6+1 -> 24 | BE6: =BC6+1 -> 25 | BG6: =BE6+1 -> 26 | BI6: =BG6+1 -> 27 | BK6: =BI6+1 -> 28 | BM6: =BK6+1 -> 29 | BO6: =BM6+1 -> 30
B7: ITEM | C7: DISCRIMINAÇÃO DOS SERVIÇOS | D7: Valor Orçado | E7: % | F7: 3 | G7: Valor | H7: % | I7: Valor | J7: % | K7: Valor | L7: % | M7: Valor | N7: % | O7: Valor | P7: % | Q7: Valor | R7: % | S7: Valor | T7: % | U7: Valor | V7: % | W7: Valor | X7: % | Y7: Valor | Z7: % | AA7: Valor | AB7: % | AC7: Valor | AD7: % | AE7: Valor | AF7: % | AG7: Valor | AH7: % | AI7: Valor | AJ7: % | AK7: Valor | AL7: % | AM7: Valor | AN7: % | AO7: Valor | AP7: % | AQ7: Valor | AR7: % | AS7: Valor | AT7: % | AU7: Valor | AV7: % | AW7: Valor | AX7: % | AY7: Valor | AZ7: % | BA7: Valor | BB7: % | BC7: Valor | BD7: % | BE7: Valor | BF7: % | BG7: Valor | BH7: % | BI7: Valor | BJ7: % | BK7: Valor | BL7: % | BM7: Valor | BN7: % | BO7: Valor | BP7: %
B8: 0 | C8: =IF(B8="","",VLOOKUP(B8,'Orçamento Detalhado'!$A$11:$I$531,4,)) -> TERRENO (sem BDI) | D8: =SUM(D9) -> 0 | E8: =IFERROR(D8/$D$524,0) -> 0 | F8: 4 | G8: =SUM(G9) -> 0 | H8: =IFERROR(G8/$D8,0) -> 0 | I8: =SUM(I9) -> 0 | J8: =IFERROR(I8/$D8,0) -> 0 | K8: =SUM(K9) -> 0 | L8: =IFERROR(K8/$D8,0) -> 0 | M8: =SUM(M9) -> 0 | N8: =IFERROR(M8/$D8,0) -> 0 | O8: =SUM(O9) -> 0 | P8: =IFERROR(O8/$D8,0) -> 0 | Q8: =SUM(Q9) -> 0 | R8: =IFERROR(Q8/$D8,0) -> 0 | S8: =SUM(S9) -> 0 | T8: =IFERROR(S8/$D8,0) -> 0 | U8: =SUM(U9) -> 0 | V8: =IFERROR(U8/$D8,0) -> 0 | W8: =SUM(W9) -> 0 | X8: =IFERROR(W8/$D8,0) -> 0 | Y8: =SUM(Y9) -> 0 | Z8: =IFERROR(Y8/$D8,0) -> 0 | AA8: =SUM(AA9) -> 0 | AB8: =IFERROR(AA8/$D8,0) -> 0 | AC8: =SUM(AC9) -> 0 | AD8: =IFERROR(AC8/$D8,0) -> 0 | AE8: =SUM(AE9) -> 0 | AF8: =IFERROR(AE8/$D8,0) -> 0 | AG8: =SUM(AG9) -> 0 | AH8: =IFERROR(AG8/$D8,0) -> 0 | AI8: =SUM(AI9) -> 0 | AJ8: =IFERROR(AI8/$D8,0) -> 0 | AK8: =SUM(AK9) -> 0 | AL8: =IFERROR(AK8/$D8,0) -> 0 | AM8: =SUM(AM9) -> 0 | AN8: =IFERROR(AM8/$D8,0) -> 0 | AO8: =SUM(AO9) -> 0 | AP8: =IFERROR(AO8/$D8,0) -> 0 | AQ8: =SUM(AQ9) -> 0 | AR8: =IFERROR(AQ8/$D8,0) -> 0 | AS8: =SUM(AS9) -> 0 | AT8: =IFERROR(AS8/$D8,0) -> 0 | AU8: =SUM(AU9) -> 0 | AV8: =IFERROR(AU8/$D8,0) -> 0 | AW8: =SUM(AW9) -> 0 | AX8: =IFERROR(AW8/$D8,0) -> 0 | AY8: =SUM(AY9) -> 0 | AZ8: =IFERROR(AY8/$D8,0) -> 0 | BA8: =SUM(BA9) -> 0 | BB8: =IFERROR(BA8/$D8,0) -> 0 | BC8: =SUM(BC9) -> 0 | BD8: =IFERROR(BC8/$D8,0) -> 0 | BE8: =SUM(BE9) -> 0 | BF8: =IFERROR(BE8/$D8,0) -> 0 | BG8: =SUM(BG9) -> 0 | BH8: =IFERROR(BG8/$D8,0) -> 0 | BI8: =SUM(BI9) -> 0 | BJ8: =IFERROR(BI8/$D8,0) -> 0 | BK8: =SUM(BK9) -> 0 | BL8: =IFERROR(BK8/$D8,0) -> 0 | BM8: =SUM(BM9) -> 0 | BN8: =IFERROR(BM8/$D8,0) -> 0 | BO8: =SUM(BO9) -> 0 | BP8: =IFERROR(BO8/$D8,0) -> 0 | BQ8: =SUM(BN8,BL8,BJ8,BH8,BF8,BD8,BB8,AZ8,AX8,AV8,AT8,AR8,AP8,AN8,AL8,AJ8,AH8,AF8,AD8,AB8,Z8,X8,V8,T8,R8,P8,N8,L8,J8,H8,BP8) -> 0 | BR8: =SUM(G8,I8,K8,M8,O8,Q8,S8,U8,W8,Y8,AA8,AC8,AE8,AG8,AI8,AK8,AM8,AO8,AQ8,AS8,AU8,AW8,AY8,BA8,BC8,BE8,BG8,BI8,BK8,BM8,BO8) -> 0 | BS8: =D8='Orçamento Detalhado'!J14 -> TRUE
B9: 0.1 | C9: =IF(B9="","",VLOOKUP(B9,'Orçamento Detalhado'!$A$11:$I$531,4,)) -> TERRENO | D9: =IF(B9="",0,VLOOKUP($B9,'Orçamento Detalhado'!$A$11:$J$531,10,)) -> 0 | E9: =IFERROR(D9/$D$527,0) -> 0 | F9: 5 | G9: =$D9*H9 -> 0 | I9: =$D9*J9 -> 0 | K9: =$D9*L9 -> 0 | M9: =$D9*N9 -> 0 | O9: =$D9*P9 -> 0 | Q9: =$D9*R9 -> 0 | S9: =$D9*T9 -> 0 | U9: =$D9*V9 -> 0 | W9: =$D9*X9 -> 0 | Y9: =$D9*Z9 -> 0 | AA9: =$D9*AB9 -> 0 | AC9: =$D9*AD9 -> 0 | AE9: =$D9*AF9 -> 0 | AG9: =$D9*AH9 -> 0 | AI9: =$D9*AJ9 -> 0 | AK9: =$D9*AL9 -> 0 | AM9: =$D9*AN9 -> 0 | AO9: =$D9*AP9 -> 0 | AQ9: =$D9*AR9 -> 0 | AS9: =$D9*AT9 -> 0 | AU9: =$D9*AV9 -> 0 | AW9: =$D9*AX9 -> 0 | AY9: =$D9*AZ9 -> 0 | BA9: =$D9*BB9 -> 0 | BC9: =$D9*BD9 -> 0 | BE9: =$D9*BF9 -> 0 | BG9: =$D9*BH9 -> 0 | BI9: =$D9*BJ9 -> 0 | BK9: =$D9*BL9 -> 0 | BM9: =$D9*BN9 -> 0 | BO9: =$D9*BP9 -> 0 | BQ9: =SUM(BN9,BL9,BJ9,BH9,BF9,BD9,BB9,AZ9,AX9,AV9,AT9,AR9,AP9,AN9,AL9,AJ9,AH9,AF9,AD9,AB9,Z9,X9,V9,T9,R9,P9,N9,L9,J9,H9,BP9) -> 0 | BR9: =SUM(G9,I9,K9,M9,O9,Q9,S9,U9,W9,Y9,AA9,AC9,AE9,AG9,AI9,AK9,AM9,AO9,AQ9,AS9,AU9,AW9,AY9,BA9,BC9,BE9,BG9,BI9,BK9,BM9,BO9) -> 0 | BS9: =D9='Orçamento Detalhado'!J15 -> TRUE
B10: 1 | C10: =IF(B10="","",VLOOKUP(B10,'Orçamento Detalhado'!$A$11:$I$531,4,)) -> INDIRETOS (com BDI) | D10: =SUM(D11,D23) -> 0 | E10: =IFERROR(D10/$D$527,0) -> 0 | F10: 6 | G10: =SUM(G11,G23) -> 0 | H10: =IFERROR(G10/$D10,0) -> 0 | I10: =SUM(I11,I23) -> 0 | J10: =IFERROR(I10/$D10,0) -> 0 | K10: =SUM(K11,K23) -> 0 | L10: =IFERROR(K10/$D10,0) -> 0 | M10: =SUM(M11,M23) -> 0 | N10: =IFERROR(M10/$D10,0) -> 0 | O10: =SUM(O11,O23) -> 0 | P10: =IFERROR(O10/$D10,0) -> 0 | Q10: =SUM(Q11,Q23) -> 0 | R10: =IFERROR(Q10/$D10,0) -> 0 | S10: =SUM(S11,S23) -> 0 | T10: =IFERROR(S10/$D10,0) -> 0 | U10: =SUM(U11,U23) -> 0 | V10: =IFERROR(U10/$D10,0) -> 0 | W10: =SUM(W11,W23) -> 0 | X10: =IFERROR(W10/$D10,0) -> 0 | Y10: =SUM(Y11,Y23) -> 0 | Z10: =IFERROR(Y10/$D10,0) -> 0 | AA10: =SUM(AA11,AA23) -> 0 | AB10: =IFERROR(AA10/$D10,0) -> 0 | AC10: =SUM(AC11,AC23) -> 0 | AD10: =IFERROR(AC10/$D10,0) -> 0 | AE10: =SUM(AE11,AE23) -> 0 | AF10: =IFERROR(AE10/$D10,0) -> 0 | AG10: =SUM(AG11,AG23) -> 0 | AH10: =IFERROR(AG10/$D10,0) -> 0 | AI10: =SUM(AI11,AI23) -> 0 | AJ10: =IFERROR(AI10/$D10,0) -> 0 | AK10: =SUM(AK11,AK23) -> 0 | AL10: =IFERROR(AK10/$D10,0) -> 0 | AM10: =SUM(AM11,AM23) -> 0 | AN10: =IFERROR(AM10/$D10,0) -> 0 | AO10: =SUM(AO11,AO23) -> 0 | AP10: =IFERROR(AO10/$D10,0) -> 0 | AQ10: =SUM(AQ11,AQ23) -> 0 | AR10: =IFERROR(AQ10/$D10,0) -> 0 | AS10: =SUM(AS11,AS23) -> 0 | AT10: =IFERROR(AS10/$D10,0) -> 0 | AU10: =SUM(AU11,AU23) -> 0 | AV10: =IFERROR(AU10/$D10,0) -> 0 | AW10: =SUM(AW11,AW23) -> 0 | AX10: =IFERROR(AW10/$D10,0) -> 0 | AY10: =SUM(AY11,AY23) -> 0 | AZ10: =IFERROR(AY10/$D10,0) -> 0 | BA10: =SUM(BA11,BA23) -> 0 | BB10: =IFERROR(BA10/$D10,0) -> 0 | BC10: =SUM(BC11,BC23) -> 0 | BD10: =IFERROR(BC10/$D10,0) -> 0 | BE10: =SUM(BE11,BE23) -> 0 | BF10: =IFERROR(BE10/$D10,0) -> 0 | BG10: =SUM(BG11,BG23) -> 0 | BH10: =IFERROR(BG10/$D10,0) -> 0 | BI10: =SUM(BI11,BI23) -> 0 | BJ10: =IFERROR(BI10/$D10,0) -> 0 | BK10: =SUM(BK11,BK23) -> 0 | BL10: =IFERROR(BK10/$D10,0) -> 0 | BM10: =SUM(BM11,BM23) -> 0 | BN10: =IFERROR(BM10/$D10,0) -> 0 | BO10: =SUM(BO11,BO23) -> 0 | BP10: =IFERROR(BO10/$D10,0) -> 0 | BQ10: =SUM(BN10,BL10,BJ10,BH10,BF10,BD10,BB10,AZ10,AX10,AV10,AT10,AR10,AP10,AN10,AL10,AJ10,AH10,AF10,AD10,AB10,Z10,X10,V10,T10,R10,P10,N10,L10,J10,H10,BP10) -> 0 | BR10: =SUM(G10,I10,K10,M10,O10,Q10,S10,U10,W10,Y10,AA10,AC10,AE10,AG10,AI10,AK10,AM10,AO10,AQ10,AS10,AU10,AW10,AY10,BA10,BC10,BE10,BG10,BI10,BK10,BM10,BO10) -> 0 | BS10: =D10='Orçamento Detalhado'!J16 -> TRUE
B11: 1.1 | C11: =IF(B11="","",VLOOKUP(B11,'Orçamento Detalhado'!$A$11:$I$531,4,)) -> SERVIÇOS TECNICOS | D11: =SUM(D12:D22) -> 0 | E11: =IFERROR(D11/$D$527,0) -> 0 | F11: 7 | G11: =SUM(G12:G22) -> 0 | H11: =IFERROR(G11/$D11,0) -> 0 | I11: =SUM(I12:I22) -> 0 | J11: =IFERROR(I11/$D11,0) -> 0 | K11: =SUM(K12:K22) -> 0 | L11: =IFERROR(K11/$D11,0) -> 0 | M11: =SUM(M12:M22) -> 0 | N11: =IFERROR(M11/$D11,0) -> 0 | O11: =SUM(O12:O22) -> 0 | P11: =IFERROR(O11/$D11,0) -> 0 | Q11: =SUM(Q12:Q22) -> 0 | R11: =IFERROR(Q11/$D11,0) -> 0 | S11: =SUM(S12:S22) -> 0 | T11: =IFERROR(S11/$D11,0) -> 0 | U11: =SUM(U12:U22) -> 0 | V11: =IFERROR(U11/$D11,0) -> 0 | W11: =SUM(W12:W22) -> 0 | X11: =IFERROR(W11/$D11,0) -> 0 | Y11: =SUM(Y12:Y22) -> 0 | Z11: =IFERROR(Y11/$D11,0) -> 0 | AA11: =SUM(AA12:AA22) -> 0 | AB11: =IFERROR(AA11/$D11,0) -> 0 | AC11: =SUM(AC12:AC22) -> 0 | AD11: =IFERROR(AC11/$D11,0) -> 0 | AE11: =SUM(AE12:AE22) -> 0 | AF11: =IFERROR(AE11/$D11,0) -> 0 | AG11: =SUM(AG12:AG22) -> 0 | AH11: =IFERROR(AG11/$D11,0) -> 0 | AI11: =SUM(AI12:AI22) -> 0 | AJ11: =IFERROR(AI11/$D11,0) -> 0 | AK11: =SUM(AK12:AK22) -> 0 | AL11: =IFERROR(AK11/$D11,0) -> 0 | AM11: =SUM(AM12:AM22) -> 0 | AN11: =IFERROR(AM11/$D11,0) -> 0 | AO11: =SUM(AO12:AO22) -> 0 | AP11: =IFERROR(AO11/$D11,0) -> 0 | AQ11: =SUM(AQ12:AQ22) -> 0 | AR11: =IFERROR(AQ11/$D11,0) -> 0 | AS11: =SUM(AS12:AS22) -> 0 | AT11: =IFERROR(AS11/$D11,0) -> 0 | AU11: =SUM(AU12:AU22) -> 0 | AV11: =IFERROR(AU11/$D11,0) -> 0 | AW11: =SUM(AW12:AW22) -> 0 | AX11: =IFERROR(AW11/$D11,0) -> 0 | AY11: =SUM(AY12:AY22) -> 0 | AZ11: =IFERROR(AY11/$D11,0) -> 0 | BA11: =SUM(BA12:BA22) -> 0 | BB11: =IFERROR(BA11/$D11,0) -> 0 | BC11: =SUM(BC12:BC22) -> 0 | BD11: =IFERROR(BC11/$D11,0) -> 0 | BE11: =SUM(BE12:BE22) -> 0 | BF11: =IFERROR(BE11/$D11,0) -> 0 | BG11: =SUM(BG12:BG22) -> 0 | BH11: =IFERROR(BG11/$D11,0) -> 0 | BI11: =SUM(BI12:BI22) -> 0 | BJ11: =IFERROR(BI11/$D11,0) -> 0 | BK11: =SUM(BK12:BK22) -> 0 | BL11: =IFERROR(BK11/$D11,0) -> 0 | BM11: =SUM(BM12:BM22) -> 0 | BN11: =IFERROR(BM11/$D11,0) -> 0 | BO11: =SUM(BO12:BO22) -> 0 | BP11: =IFERROR(BO11/$D11,0) -> 0 | BQ11: =SUM(BN11,BL11,BJ11,BH11,BF11,BD11,BB11,AZ11,AX11,AV11,AT11,AR11,AP11,AN11,AL11,AJ11,AH11,AF11,AD11,AB11,Z11,X11,V11,T11,R11,P11,N11,L11,J11,H11,BP11) -> 0 | BR11: =SUM(G11,I11,K11,M11,O11,Q11,S11,U11,W11,Y11,AA11,AC11,AE11,AG11,AI11,AK11,AM11,AO11,AQ11,AS11,AU11,AW11,AY11,BA11,BC11,BE11,BG11,BI11,BK11,BM11,BO11) -> 0 | BS11: =D11='Orçamento Detalhado'!J17 -> TRUE
B12: 1.1.1 | C12: =IF(VLOOKUP(B12,'Orçamento Detalhado'!$A$11:$I$531,4,)="","",(VLOOKUP(B12,'Orçamento Detalhado'!$A$11:$I$531,4,))) -> Projeto Legal | D12: =IF(B12="","",VLOOKUP($B12,'Orçamento Detalhado'!$A$11:$J$531,10,)) | E12: =IFERROR(D12/$D$527,0) -> 0 | F12: 8 | G12: =IFERROR($D12*H12,0) -> 0 | I12: =IFERROR($D12*J12,0) -> 0 | K12: =IFERROR($D12*L12,0) -> 0 | M12: =IFERROR($D12*N12,0) -> 0 | O12: =IFERROR($D12*P12,0) -> 0 | Q12: =IFERROR($D12*R12,0) -> 0 | S12: =IFERROR($D12*T12,0) -> 0 | U12: =IFERROR($D12*V12,0) -> 0 | W12: =IFERROR($D12*X12,0) -> 0 | Y12: =IFERROR($D12*Z12,0) -> 0 | AA12: =IFERROR($D12*AB12,0) -> 0 | AC12: =IFERROR($D12*AD12,0) -> 0 | AE12: =IFERROR($D12*AF12,0) -> 0 | AG12: =IFERROR($D12*AH12,0) -> 0 | AI12: =IFERROR($D12*AJ12,0) -> 0 | AK12: =IFERROR($D12*AL12,0) -> 0 | AM12: =IFERROR($D12*AN12,0) -> 0 | AO12: =IFERROR($D12*AP12,0) -> 0 | AQ12: =IFERROR($D12*AR12,0) -> 0 | AS12: =IFERROR($D12*AT12,0) -> 0 | AU12: =IFERROR($D12*AV12,0) -> 0 | AW12: =IFERROR($D12*AX12,0) -> 0 | AY12: =IFERROR($D12*AZ12,0) -> 0 | BA12: =IFERROR($D12*BB12,0) -> 0 | BC12: =IFERROR($D12*BD12,0) -> 0 | BE12: =IFERROR($D12*BF12,0) -> 0 | BG12: =IFERROR($D12*BH12,0) -> 0 | BI12: =IFERROR($D12*BJ12,0) -> 0 | BK12: =IFERROR($D12*BL12,0) -> 0 | BM12: =IFERROR($D12*BN12,0) -> 0 | BO12: =IFERROR($D12*BP12,0) -> 0 | BQ12: =SUM(BN12,BL12,BJ12,BH12,BF12,BD12,BB12,AZ12,AX12,AV12,AT12,AR12,AP12,AN12,AL12,AJ12,AH12,AF12,AD12,AB12,Z12,X12,V12,T12,R12,P12,N12,L12,J12,H12,BP12) -> 0 | BR12: =SUM(G12,I12,K12,M12,O12,Q12,S12,U12,W12,Y12,AA12,AC12,AE12,AG12,AI12,AK12,AM12,AO12,AQ12,AS12,AU12,AW12,AY12,BA12,BC12,BE12,BG12,BI12,BK12,BM12,BO12) -> 0 | BS12: =D12='Orçamento Detalhado'!J18 -> TRUE
B13: 1.1.2 | C13: =IF(VLOOKUP(B13,'Orçamento Detalhado'!$A$11:$I$531,4,)="","",(VLOOKUP(B13,'Orçamento Detalhado'!$A$11:$I$531,4,))) -> Projetos Técnicos (Complementar e Executivo) | D13: =IF(B13="","",VLOOKUP($B13,'Orçamento Detalhado'!$A$11:$J$531,10,)) | E13: =IFERROR(D13/$D$527,0) -> 0 | F13: 9 | G13: =IFERROR($D13*H13,0) -> 0 | I13: =IFERROR($D13*J13,0) -> 0 | K13: =IFERROR($D13*L13,0) -> 0 | M13: =IFERROR($D13*N13,0) -> 0 | O13: =IFERROR($D13*P13,0) -> 0 | Q13: =IFERROR($D13*R13,0) -> 0 | S13: =IFERROR($D13*T13,0) -> 0 | U13: =IFERROR($D13*V13,0) -> 0 | W13: =IFERROR($D13*X13,0) -> 0 | Y13: =IFERROR($D13*Z13,0) -> 0 | AA13: =IFERROR($D13*AB13,0) -> 0 | AC13: =IFERROR($D13*AD13,0) -> 0 | AE13: =IFERROR($D13*AF13,0) -> 0 | AG13: =IFERROR($D13*AH13,0) -> 0 | AI13: =IFERROR($D13*AJ13,0) -> 0 | AK13: =IFERROR($D13*AL13,0) -> 0 | AM13: =IFERROR($D13*AN13,0) -> 0 | AO13: =IFERROR($D13*AP13,0) -> 0 | AQ13: =IFERROR($D13*AR13,0) -> 0 | AS13: =IFERROR($D13*AT13,0) -> 0 | AU13: =IFERROR($D13*AV13,0) -> 0 | AW13: =IFERROR($D13*AX13,0) -> 0 | AY13: =IFERROR($D13*AZ13,0) -> 0 | BA13: =IFERROR($D13*BB13,0) -> 0 | BC13: =IFERROR($D13*BD13,0) -> 0 | BE13: =IFERROR($D13*BF13,0) -> 0 | BG13: =IFERROR($D13*BH13,0) -> 0 | BI13: =IFERROR($D13*BJ13,0) -> 0 | BK13: =IFERROR($D13*BL13,0) -> 0 | BM13: =IFERROR($D13*BN13,0) -> 0 | BO13: =IFERROR($D13*BP13,0) -> 0 | BQ13: =SUM(BN13,BL13,BJ13,BH13,BF13,BD13,BB13,AZ13,AX13,AV13,AT13,AR13,AP13,AN13,AL13,AJ13,AH13,AF13,AD13,AB13,Z13,X13,V13,T13,R13,P13,N13,L13,J13,H13,BP13) -> 0 | BR13: =SUM(G13,I13,K13,M13,O13,Q13,S13,U13,W13,Y13,AA13,AC13,AE13,AG13,AI13,AK13,AM13,AO13,AQ13,AS13,AU13,AW13,AY13,BA13,BC13,BE13,BG13,BI13,BK13,BM13,BO13) -> 0 | BS13: =D13='Orçamento Detalhado'!J19 -> TRUE
B14: 1.1.3 | C14: =IF(VLOOKUP(B14,'Orçamento Detalhado'!$A$11:$I$531,4,)="","",(VLOOKUP(B14,'Orçamento Detalhado'!$A$11:$I$531,4,))) -> Projeto Final (As Built) | D14: =IF(B14="","",VLOOKUP($B14,'Orçamento Detalhado'!$A$11:$J$531,10,)) | E14: =IFERROR(D14/$D$527,0) -> 0 | F14: 10 | G14: =IFERROR($D14*H14,0) -> 0 | I14: =IFERROR($D14*J14,0) -> 0 | K14: =IFERROR($D14*L14,0) -> 0 | M14: =IFERROR($D14*N14,0) -> 0 | O14: =IFERROR($D14*P14,0) -> 0 | Q14: =IFERROR($D14*R14,0) -> 0 | S14: =IFERROR($D14*T14,0) -> 0 | U14: =IFERROR($D14*V14,0) -> 0 | W14: =IFERROR($D14*X14,0) -> 0 | Y14: =IFERROR($D14*Z14,0) -> 0 | AA14: =IFERROR($D14*AB14,0) -> 0 | AC14: =IFERROR($D14*AD14,0) -> 0 | AE14: =IFERROR($D14*AF14,0) -> 0 | AG14: =IFERROR($D14*AH14,0) -> 0 | AI14: =IFERROR($D14*AJ14,0) -> 0 | AK14: =IFERROR($D14*AL14,0) -> 0 | AM14: =IFERROR($D14*AN14,0) -> 0 | AO14: =IFERROR($D14*AP14,0) -> 0 | AQ14: =IFERROR($D14*AR14,0) -> 0 | AS14: =IFERROR($D14*AT14,0) -> 0 | AU14: =IFERROR($D14*AV14,0) -> 0 | AW14: =IFERROR($D14*AX14,0) -> 0 | AY14: =IFERROR($D14*AZ14,0) -> 0 | BA14: =IFERROR($D14*BB14,0) -> 0 | BC14: =IFERROR($D14*BD14,0) -> 0 | BE14: =IFERROR($D14*BF14,0) -> 0 | BG14: =IFERROR($D14*BH14,0) -> 0 | BI14: =IFERROR($D14*BJ14,0) -> 0 | BK14: =IFERROR($D14*BL14,0) -> 0 | BM14: =IFERROR($D14*BN14,0) -> 0 | BO14: =IFERROR($D14*BP14,0) -> 0 | BQ14: =SUM(BN14,BL14,BJ14,BH14,BF14,BD14,BB14,AZ14,AX14,AV14,AT14,AR14,AP14,AN14,AL14,AJ14,AH14,AF14,AD14,AB14,Z14,X14,V14,T14,R14,P14,N14,L14,J14,H14,BP14) -> 0 | BR14: =SUM(G14,I14,K14,M14,O14,Q14,S14,U14,W14,Y14,AA14,AC14,AE14,AG14,AI14,AK14,AM14,AO14,AQ14,AS14,AU14,AW14,AY14,BA14,BC14,BE14,BG14,BI14,BK14,BM14,BO14) -> 0 | BS14: =D14='Orçamento Detalhado'!J20 -> TRUE
B15: 1.1.4 | C15: =IF(VLOOKUP(B15,'Orçamento Detalhado'!$A$11:$I$531,4,)="","",(VLOOKUP(B15,'Orçamento Detalhado'!$A$11:$I$531,4,))) -> Sondagens | D15: =IF(B15="","",VLOOKUP($B15,'Orçamento Detalhado'!$A$11:$J$531,10,)) | E15: =IFERROR(D15/$D$527,0) -> 0 | F15: 11 | G15: =IFERROR($D15*H15,0) -> 0 | I15: =IFERROR($D15*J15,0) -> 0 | K15: =IFERROR($D15*L15,0) -> 0 | M15: =IFERROR($D15*N15,0) -> 0 | O15: =IFERROR($D15*P15,0) -> 0 | Q15: =IFERROR($D15*R15,0) -> 0 | S15: =IFERROR($D15*T15,0) -> 0 | U15: =IFERROR($D15*V15,0) -> 0 | W15: =IFERROR($D15*X15,0) -> 0 | Y15: =IFERROR($D15*Z15,0) -> 0 | AA15: =IFERROR($D15*AB15,0) -> 0 | AC15: =IFERROR($D15*AD15,0) -> 0 | AE15: =IFERROR($D15*AF15,0) -> 0 | AG15: =IFERROR($D15*AH15,0) -> 0 | AI15: =IFERROR($D15*AJ15,0) -> 0 | AK15: =IFERROR($D15*AL15,0) -> 0 | AM15: =IFERROR($D15*AN15,0) -> 0 | AO15: =IFERROR($D15*AP15,0) -> 0 | AQ15: =IFERROR($D15*AR15,0) -> 0 | AS15: =IFERROR($D15*AT15,0) -> 0 | AU15: =IFERROR($D15*AV15,0) -> 0 | AW15: =IFERROR($D15*AX15,0) -> 0 | AY15: =IFERROR($D15*AZ15,0) -> 0 | BA15: =IFERROR($D15*BB15,0) -> 0 | BC15: =IFERROR($D15*BD15,0) -> 0 | BE15: =IFERROR($D15*BF15,0) -> 0 | BG15: =IFERROR($D15*BH15,0) -> 0 | BI15: =IFERROR($D15*BJ15,0) -> 0 | BK15: =IFERROR($D15*BL15,0) -> 0 | BM15: =IFERROR($D15*BN15,0) -> 0 | BO15: =IFERROR($D15*BP15,0) -> 0 | BQ15: =SUM(BN15,BL15,BJ15,BH15,BF15,BD15,BB15,AZ15,AX15,AV15,AT15,AR15,AP15,AN15,AL15,AJ15,AH15,AF15,AD15,AB15,Z15,X15,V15,T15,R15,P15,N15,L15,J15,H15,BP15) -> 0 | BR15: =SUM(G15,I15,K15,M15,O15,Q15,S15,U15,W15,Y15,AA15,AC15,AE15,AG15,AI15,AK15,AM15,AO15,AQ15,AS15,AU15,AW15,AY15,BA15,BC15,BE15,BG15,BI15,BK15,BM15,BO15) -> 0 | BS15: =D15='Orçamento Detalhado'!J21 -> TRUE
B16: 1.1.5 | C16: =IF(VLOOKUP(B16,'Orçamento Detalhado'!$A$11:$I$531,4,)="","",(VLOOKUP(B16,'Orçamento Detalhado'!$A$11:$I$531,4,))) -> Levantamento Planialtimetrico | D16: =IF(B16="","",VLOOKUP($B16,'Orçamento Detalhado'!$A$11:$J$531,10,)) | E16: =IFERROR(D16/$D$527,0) -> 0 | F16: 12 | G16: =IFERROR($D16*H16,0) -> 0 | I16: =IFERROR($D16*J16,0) -> 0 | K16: =IFERROR($D16*L16,0) -> 0 | M16: =IFERROR($D16*N16,0) -> 0 | O16: =IFERROR($D16*P16,0) -> 0 | Q16: =IFERROR($D16*R16,0) -> 0 | S16: =IFERROR($D16*T16,0) -> 0 | U16: =IFERROR($D16*V16,0) -> 0 | W16: =IFERROR($D16*X16,0) -> 0 | Y16: =IFERROR($D16*Z16,0) -> 0 | AA16: =IFERROR($D16*AB16,0) -> 0 | AC16: =IFERROR($D16*AD16,0) -> 0 | AE16: =IFERROR($D16*AF16,0) -> 0 | AG16: =IFERROR($D16*AH16,0) -> 0 | AI16: =IFERROR($D16*AJ16,0) -> 0 | AK16: =IFERROR($D16*AL16,0) -> 0 | AM16: =IFERROR($D16*AN16,0) -> 0 | AO16: =IFERROR($D16*AP16,0) -> 0 | AQ16: =IFERROR($D16*AR16,0) -> 0 | AS16: =IFERROR($D16*AT16,0) -> 0 | AU16: =IFERROR($D16*AV16,0) -> 0 | AW16: =IFERROR($D16*AX16,0) -> 0 | AY16: =IFERROR($D16*AZ16,0) -> 0 | BA16: =IFERROR($D16*BB16,0) -> 0 | BC16: =IFERROR($D16*BD16,0) -> 0 | BE16: =IFERROR($D16*BF16,0) -> 0 | BG16: =IFERROR($D16*BH16,0) -> 0 | BI16: =IFERROR($D16*BJ16,0) -> 0 | BK16: =IFERROR($D16*BL16,0) -> 0 | BM16: =IFERROR($D16*BN16,0) -> 0 | BO16: =IFERROR($D16*BP16,0) -> 0 | BQ16: =SUM(BN16,BL16,BJ16,BH16,BF16,BD16,BB16,AZ16,AX16,AV16,AT16,AR16,AP16,AN16,AL16,AJ16,AH16,AF16,AD16,AB16,Z16,X16,V16,T16,R16,P16,N16,L16,J16,H16,BP16) -> 0 | BR16: =SUM(G16,I16,K16,M16,O16,Q16,S16,U16,W16,Y16,AA16,AC16,AE16,AG16,AI16,AK16,AM16,AO16,AQ16,AS16,AU16,AW16,AY16,BA16,BC16,BE16,BG16,BI16,BK16,BM16,BO16) -> 0 | BS16: =D16='Orçamento Detalhado'!J22 -> TRUE
